BEGIN:VCALENDAR
VERSION:2.0
PRODID:-//jEvents 2.0 for Joomla//EN
CALSCALE:GREGORIAN
METHOD:PUBLISH
BEGIN:VTIMEZONE
TZID:Europe/Berlin
BEGIN:STANDARD
DTSTART:20211109T193000
RDATE:20220327T030000
TZOFFSETFROM:+0200
TZOFFSETTO:+0100
TZNAME:Europe/Berlin CET
END:STANDARD
BEGIN:STANDARD
DTSTART:20221030T020000
RDATE:20230326T030000
TZOFFSETFROM:+0200
TZOFFSETTO:+0100
TZNAME:Europe/Berlin CET
END:STANDARD
BEGIN:STANDARD
DTSTART:20231029T020000
RDATE:20240331T030000
TZOFFSETFROM:+0200
TZOFFSETTO:+0100
TZNAME:Europe/Berlin CET
END:STANDARD
BEGIN:STANDARD
DTSTART:20241027T020000
RDATE:20250330T030000
TZOFFSETFROM:+0200
TZOFFSETTO:+0100
TZNAME:Europe/Berlin CET
END:STANDARD
BEGIN:STANDARD
DTSTART:20251026T020000
RDATE:20260329T030000
TZOFFSETFROM:+0200
TZOFFSETTO:+0100
TZNAME:Europe/Berlin CET
END:STANDARD
BEGIN:STANDARD
DTSTART:20261025T020000
RDATE:20270328T030000
TZOFFSETFROM:+0200
TZOFFSETTO:+0100
TZNAME:Europe/Berlin CET
END:STANDARD
BEGIN:DAYLIGHT
DTSTART:20220327T030000
RDATE:20221030T020000
TZOFFSETFROM:+0100
TZOFFSETTO:+0200
TZNAME:Europe/Berlin CEST
END:DAYLIGHT
BEGIN:DAYLIGHT
DTSTART:20230326T030000
RDATE:20231029T020000
TZOFFSETFROM:+0100
TZOFFSETTO:+0200
TZNAME:Europe/Berlin CEST
END:DAYLIGHT
BEGIN:DAYLIGHT
DTSTART:20240331T030000
RDATE:20241027T020000
TZOFFSETFROM:+0100
TZOFFSETTO:+0200
TZNAME:Europe/Berlin CEST
END:DAYLIGHT
BEGIN:DAYLIGHT
DTSTART:20250330T030000
RDATE:20251026T020000
TZOFFSETFROM:+0100
TZOFFSETTO:+0200
TZNAME:Europe/Berlin CEST
END:DAYLIGHT
BEGIN:DAYLIGHT
DTSTART:20260329T030000
RDATE:20261025T020000
TZOFFSETFROM:+0100
TZOFFSETTO:+0200
TZNAME:Europe/Berlin CEST
END:DAYLIGHT
END:VTIMEZONE
BEGIN:VEVENT
UID:8fd01cd27556f8734d096069080d6bc9
CATEGORIES:WRK-Termine
CREATED:20221103T112931
SUMMARY:Infoabend Segelscheine
DESCRIPTION:<p><strong><a href="ausbildung">Ausbildung</a>&nbsp;</strong></p><p><strong
 >bei der Wassersportgemeinschaft Rumeln Kaldenhausen e.V</strong></p><p><st
 rong>Nächster Infoabend:</strong></p><p><strong>Donnerstag 10.11.2022 19:30
 Uhr im Vereinsgebäude</strong></p><p><strong>&nbsp;</strong></p><p><strong>
 &nbsp;</strong></p><p><strong>Kursort:</strong></p><p>Wassersportgemeinscha
 ft Rumeln Kaldenhausen e.V. 1961</p><p>Borgschenweg 11a,&nbsp;47239 Duisbur
 g</p><p><strong>&nbsp;</strong></p><p><strong>&nbsp;</strong></p><p><strong
 >Kontakt:</strong></p><p>Wassersportgemeinschaft Rumeln Kaldenhausen e.V. 1
 961</p><p>Borgschenweg 11a,&nbsp;47239 Duisburg</p><p><strong>&nbsp;</stron
 g></p><p><strong>Weitere Informationen auch per Mail:</strong></p><p><span 
 id="cloak08bcd287c19701950ab996c9ff79f677"><a href="mailto:segelscheine@wrk
 -duisburg.de"></a><span id="cloak39c366616bb622f8667dfc5a5851c90f">Diese E-
 Mail-Adresse ist vor Spambots geschützt! Zur Anzeige muss JavaScript einges
 chaltet sein!</span><script type='text/javascript'>
				document.getElement
 ById('cloak39c366616bb622f8667dfc5a5851c90f').innerHTML = '';
				var prefi
 x = '&#109;a' + 'i&#108;' + '&#116;o';
				var path = 'hr' + 'ef' + '=';
		
 		var addy39c366616bb622f8667dfc5a5851c90f = 's&#101;g&#101;lsch&#101;&#105
 ;n&#101;' + '&#64;';
				addy39c366616bb622f8667dfc5a5851c90f = addy39c3666
 16bb622f8667dfc5a5851c90f + 'wrk-d&#117;&#105;sb&#117;rg' + '&#46;' + 'd&#1
 01;';
				var addy_text39c366616bb622f8667dfc5a5851c90f = 's&#101;g&#101;ls
 ch&#101;&#105;n&#101;' + '&#64;' + 'wrk-d&#117;&#105;sb&#117;rg' + '&#46;' 
 + 'd&#101;';document.getElementById('cloak39c366616bb622f8667dfc5a5851c90f'
 ).innerHTML += '<a ' + path + '\'' + prefix + ':' + addy39c366616bb622f8667
 dfc5a5851c90f + '\'>'+addy_text39c366616bb622f8667dfc5a5851c90f+'<\/a>';
		
 </script></span></p>
X-ALT-DESC;FMTTYPE=text/html:<p><strong><a href="https://wrk-duisburg.de/ausbildung">Ausbildung</a>&nbsp
 ;</strong></p><p><strong>bei der Wassersportgemeinschaft Rumeln Kaldenhause
 n e.V</strong></p><p><strong>Nächster Infoabend:</strong></p><p><strong>Don
 nerstag 10.11.2022 19:30Uhr im Vereinsgebäude</strong></p><p><strong>&nbsp;
 </strong></p><p><strong>&nbsp;</strong></p><p><strong>Kursort:</strong></p>
 <p>Wassersportgemeinschaft Rumeln Kaldenhausen e.V. 1961</p><p>Borgschenweg
  11a,&nbsp;47239 Duisburg</p><p><strong>&nbsp;</strong></p><p><strong>&nbsp
 ;</strong></p><p><strong>Kontakt:</strong></p><p>Wassersportgemeinschaft Ru
 meln Kaldenhausen e.V. 1961</p><p>Borgschenweg 11a,&nbsp;47239 Duisburg</p>
 <p><strong>&nbsp;</strong></p><p><strong>Weitere Informationen auch per Mai
 l:</strong></p><p><span id="cloak08bcd287c19701950ab996c9ff79f677"><a href=
 "mailto:segelscheine@wrk-duisburg.de"></a><span id="cloak39c366616bb622f866
 7dfc5a5851c90f">Diese E-Mail-Adresse ist vor Spambots geschützt! Zur Anzeig
 e muss JavaScript eingeschaltet sein!</span><script type='text/javascript'>
 
				document.getElementById('cloak39c366616bb622f8667dfc5a5851c90f').inner
 HTML = '';
				var prefix = '&#109;a' + 'i&#108;' + '&#116;o';
				var path
  = 'hr' + 'ef' + '=';
				var addy39c366616bb622f8667dfc5a5851c90f = 's&#10
 1;g&#101;lsch&#101;&#105;n&#101;' + '&#64;';
				addy39c366616bb622f8667dfc
 5a5851c90f = addy39c366616bb622f8667dfc5a5851c90f + 'wrk-d&#117;&#105;sb&#1
 17;rg' + '&#46;' + 'd&#101;';
				var addy_text39c366616bb622f8667dfc5a5851
 c90f = 's&#101;g&#101;lsch&#101;&#105;n&#101;' + '&#64;' + 'wrk-d&#117;&#10
 5;sb&#117;rg' + '&#46;' + 'd&#101;';document.getElementById('cloak39c366616
 bb622f8667dfc5a5851c90f').innerHTML += '<a ' + path + '\'' + prefix + ':' +
  addy39c366616bb622f8667dfc5a5851c90f + '\'>'+addy_text39c366616bb622f8667d
 fc5a5851c90f+'<\/a>';
		</script></span></p>
DTSTAMP:20260425T000600
DTSTART;TZID=Europe/Berlin:20221110T193000
SEQUENCE:0
TRANSP:OPAQUE
END:VEVENT
END:VCALENDAR