BEGIN:VCALENDAR
VERSION:2.0
PRODID:-//jEvents 2.0 for Joomla//EN
CALSCALE:GREGORIAN
METHOD:PUBLISH
BEGIN:VTIMEZONE
TZID:Europe/Berlin
BEGIN:STANDARD
DTSTART:20221030T020000
RDATE:20230326T030000
TZOFFSETFROM:+0200
TZOFFSETTO:+0100
TZNAME:Europe/Berlin CET
END:STANDARD
BEGIN:STANDARD
DTSTART:20231029T020000
RDATE:20240331T030000
TZOFFSETFROM:+0200
TZOFFSETTO:+0100
TZNAME:Europe/Berlin CET
END:STANDARD
BEGIN:STANDARD
DTSTART:20241027T020000
RDATE:20250330T030000
TZOFFSETFROM:+0200
TZOFFSETTO:+0100
TZNAME:Europe/Berlin CET
END:STANDARD
BEGIN:STANDARD
DTSTART:20251026T020000
RDATE:20260329T030000
TZOFFSETFROM:+0200
TZOFFSETTO:+0100
TZNAME:Europe/Berlin CET
END:STANDARD
BEGIN:STANDARD
DTSTART:20261025T020000
RDATE:20270328T030000
TZOFFSETFROM:+0200
TZOFFSETTO:+0100
TZNAME:Europe/Berlin CET
END:STANDARD
BEGIN:DAYLIGHT
DTSTART:20221025T193000
RDATE:20221030T020000
TZOFFSETFROM:+0100
TZOFFSETTO:+0200
TZNAME:Europe/Berlin CEST
END:DAYLIGHT
BEGIN:DAYLIGHT
DTSTART:20230326T030000
RDATE:20231029T020000
TZOFFSETFROM:+0100
TZOFFSETTO:+0200
TZNAME:Europe/Berlin CEST
END:DAYLIGHT
BEGIN:DAYLIGHT
DTSTART:20240331T030000
RDATE:20241027T020000
TZOFFSETFROM:+0100
TZOFFSETTO:+0200
TZNAME:Europe/Berlin CEST
END:DAYLIGHT
BEGIN:DAYLIGHT
DTSTART:20250330T030000
RDATE:20251026T020000
TZOFFSETFROM:+0100
TZOFFSETTO:+0200
TZNAME:Europe/Berlin CEST
END:DAYLIGHT
BEGIN:DAYLIGHT
DTSTART:20260329T030000
RDATE:20261025T020000
TZOFFSETFROM:+0100
TZOFFSETTO:+0200
TZNAME:Europe/Berlin CEST
END:DAYLIGHT
END:VTIMEZONE
BEGIN:VEVENT
UID:026cad60a90fb117a9b0caded771d192
CATEGORIES:WRK-Termine
CREATED:20231006T095645
SUMMARY:Infoabend Segelscheine
DESCRIPTION:Infoabend zu unseren Ausblidungsangeboten findet am Donnerstag 26.10.2023 1
 9:30Uhr im Vereinsgebäude statt\n \nKursort:\nWassersportgemeinschaft Rumel
 n Kaldenhausen e.V. 1961\nBorgschenweg 11a, 47239 Duisburg\n \n \nKontakt:\
 nWassersportgemeinschaft Rumeln Kaldenhausen e.V. 1961\nBorgschenweg 11a, 4
 7239 Duisburg\n \nWeitere Informationen auch per Mail:\n (mailto:segelschei
 ne@wrk-duisburg.de)Diese E-Mail-Adresse ist vor Spambots geschützt! Zur Anz
 eige muss JavaScript eingeschaltet sein!
				document.getElementById('cloak
 850c9362eb50951c848c4f47291d8e43').innerHTML = '';
				var prefix = '&#109;
 a' + 'i&#108;' + '&#116;o';
				var path = 'hr' + 'ef' + '=';
				var addy8
 50c9362eb50951c848c4f47291d8e43 = 's&#101;g&#101;lsch&#101;&#105;n&#101;' +
  '&#64;';
				addy850c9362eb50951c848c4f47291d8e43 = addy850c9362eb50951c84
 8c4f47291d8e43 + 'wrk-d&#117;&#105;sb&#117;rg' + '&#46;' + 'd&#101;';
				v
 ar addy_text850c9362eb50951c848c4f47291d8e43 = 's&#101;g&#101;lsch&#101;&#1
 05;n&#101;' + '&#64;' + 'wrk-d&#117;&#105;sb&#117;rg' + '&#46;' + 'd&#101;'
 ;document.getElementById('cloak850c9362eb50951c848c4f47291d8e43').innerHTML
  += '<a ' + path + '\'' + prefix + ':' + addy850c9362eb50951c848c4f47291d8e
 43 + '\'>'+addy_text850c9362eb50951c848c4f47291d8e43+'';
		\n
X-ALT-DESC;FMTTYPE=text/html:<p><strong><strong>Infoabend zu unseren Ausblidungsangeboten findet am&nbsp
 ;</strong><strong>Donnerstag 26.10.2023 19:30Uhr im Vereinsgebäude statt</s
 trong></strong></p><p><strong>&nbsp;</strong></p><p><strong>Kursort:</stron
 g></p><p>Wassersportgemeinschaft Rumeln Kaldenhausen e.V. 1961</p><p>Borgsc
 henweg 11a,&nbsp;47239 Duisburg</p><p><strong>&nbsp;</strong></p><p><strong
 >&nbsp;</strong></p><p><strong>Kontakt:</strong></p><p>Wassersportgemeinsch
 aft Rumeln Kaldenhausen e.V. 1961</p><p>Borgschenweg 11a,&nbsp;47239 Duisbu
 rg</p><p><strong>&nbsp;</strong></p><p><strong>Weitere Informationen auch p
 er Mail:</strong></p><p><span id="cloak08bcd287c19701950ab996c9ff79f677"><a
  href="mailto:segelscheine@wrk-duisburg.de"></a><span id="cloak850c9362eb50
 951c848c4f47291d8e43">Diese E-Mail-Adresse ist vor Spambots geschützt! Zur 
 Anzeige muss JavaScript eingeschaltet sein!</span><script type='text/javasc
 ript'>
				document.getElementById('cloak850c9362eb50951c848c4f47291d8e43')
 .innerHTML = '';
				var prefix = '&#109;a' + 'i&#108;' + '&#116;o';
				va
 r path = 'hr' + 'ef' + '=';
				var addy850c9362eb50951c848c4f47291d8e43 = 
 's&#101;g&#101;lsch&#101;&#105;n&#101;' + '&#64;';
				addy850c9362eb50951c
 848c4f47291d8e43 = addy850c9362eb50951c848c4f47291d8e43 + 'wrk-d&#117;&#105
 ;sb&#117;rg' + '&#46;' + 'd&#101;';
				var addy_text850c9362eb50951c848c4f
 47291d8e43 = 's&#101;g&#101;lsch&#101;&#105;n&#101;' + '&#64;' + 'wrk-d&#11
 7;&#105;sb&#117;rg' + '&#46;' + 'd&#101;';document.getElementById('cloak850
 c9362eb50951c848c4f47291d8e43').innerHTML += '<a ' + path + '\'' + prefix +
  ':' + addy850c9362eb50951c848c4f47291d8e43 + '\'>'+addy_text850c9362eb5095
 1c848c4f47291d8e43+'<\/a>';
		</script></span></p>
DTSTAMP:20260425T032250
DTSTART;TZID=Europe/Berlin:20231026T193000
SEQUENCE:0
TRANSP:OPAQUE
END:VEVENT
END:VCALENDAR