BEGIN:VCALENDAR
VERSION:2.0
PRODID:-//jEvents 2.0 for Joomla//EN
CALSCALE:GREGORIAN
METHOD:PUBLISH
BEGIN:VTIMEZONE
TZID:Europe/Berlin
BEGIN:STANDARD
DTSTART:20241027T020000
RDATE:20250330T030000
TZOFFSETFROM:+0200
TZOFFSETTO:+0100
TZNAME:Europe/Berlin CET
END:STANDARD
BEGIN:STANDARD
DTSTART:20251026T020000
RDATE:20260329T030000
TZOFFSETFROM:+0200
TZOFFSETTO:+0100
TZNAME:Europe/Berlin CET
END:STANDARD
BEGIN:STANDARD
DTSTART:20261025T020000
RDATE:20270328T030000
TZOFFSETFROM:+0200
TZOFFSETTO:+0100
TZNAME:Europe/Berlin CET
END:STANDARD
BEGIN:DAYLIGHT
DTSTART:20241008T190000
RDATE:20241027T020000
TZOFFSETFROM:+0100
TZOFFSETTO:+0200
TZNAME:Europe/Berlin CEST
END:DAYLIGHT
BEGIN:DAYLIGHT
DTSTART:20250330T030000
RDATE:20251026T020000
TZOFFSETFROM:+0100
TZOFFSETTO:+0200
TZNAME:Europe/Berlin CEST
END:DAYLIGHT
BEGIN:DAYLIGHT
DTSTART:20260329T030000
RDATE:20261025T020000
TZOFFSETFROM:+0100
TZOFFSETTO:+0200
TZNAME:Europe/Berlin CEST
END:DAYLIGHT
END:VTIMEZONE
BEGIN:VEVENT
UID:ec690c4cc62d2846728fb2286b782c10
CATEGORIES:WRK-Termine
CREATED:20250910T192812
SUMMARY:Infoabend Segelscheine
DESCRIPTION:<p><strong><strong>Infoabend zu unseren Ausblidungsangeboten findet am&nbsp
 ;</strong><strong>Donnerstag 09. Oktober 2025 um 19:00 Uhr im Vereinsgebäud
 e statt</strong></strong></p><p><strong>&nbsp;</strong></p><p><strong>Kurso
 rt:</strong></p><p>Wassersportgemeinschaft Rumeln Kaldenhausen e.V. 1961</p
 ><p>Borgschenweg 11a,&nbsp;47239 Duisburg</p><p><strong>&nbsp;</strong></p>
 <p><strong>&nbsp;</strong></p><p><strong>Kontakt:</strong></p><p>Wasserspor
 tgemeinschaft Rumeln Kaldenhausen e.V. 1961</p><p>Borgschenweg 11a,&nbsp;47
 239 Duisburg</p><p><strong>&nbsp;</strong></p><p><strong>Weitere Informatio
 nen auch per Mail:</strong></p><p><span id="cloak08bcd287c19701950ab996c9ff
 79f677"><a href="mailto:segelscheine@wrk-duisburg.de"></a><span id="cloak8c
 045770878d781dee03a348875bf3fb">Diese E-Mail-Adresse ist vor Spambots gesch
 ützt! Zur Anzeige muss JavaScript eingeschaltet sein!</span><script type='t
 ext/javascript'>
				document.getElementById('cloak8c045770878d781dee03a348
 875bf3fb').innerHTML = '';
				var prefix = '&#109;a' + 'i&#108;' + '&#116;
 o';
				var path = 'hr' + 'ef' + '=';
				var addy8c045770878d781dee03a3488
 75bf3fb = 's&#101;g&#101;lsch&#101;&#105;n&#101;' + '&#64;';
				addy8c0457
 70878d781dee03a348875bf3fb = addy8c045770878d781dee03a348875bf3fb + 'wrk-d&
 #117;&#105;sb&#117;rg' + '&#46;' + 'd&#101;';
				var addy_text8c045770878d
 781dee03a348875bf3fb = 's&#101;g&#101;lsch&#101;&#105;n&#101;' + '&#64;' + 
 'wrk-d&#117;&#105;sb&#117;rg' + '&#46;' + 'd&#101;';document.getElementById
 ('cloak8c045770878d781dee03a348875bf3fb').innerHTML += '<a ' + path + '\'' 
 + prefix + ':' + addy8c045770878d781dee03a348875bf3fb + '\'>'+addy_text8c04
 5770878d781dee03a348875bf3fb+'<\/a>';
		</script></span></p>
DTSTAMP:20260425T111637
DTSTART;TZID=Europe/Berlin:20251009T190000
SEQUENCE:0
TRANSP:OPAQUE
END:VEVENT
END:VCALENDAR