BEGIN:VCALENDAR
VERSION:2.0
PRODID:-//jEvents 2.0 for Joomla//EN
CALSCALE:GREGORIAN
METHOD:PUBLISH
BEGIN:VTIMEZONE
TZID:Europe/Berlin
BEGIN:STANDARD
DTSTART:20261207T180000
RDATE:20270328T030000
TZOFFSETFROM:+0200
TZOFFSETTO:+0100
TZNAME:Europe/Berlin CET
END:STANDARD
END:VTIMEZONE
BEGIN:VEVENT
UID:f0d736cc0be4b7cd09ebcbe24cca6664
CATEGORIES:Ständige Termine
CREATED:20221002T164834
SUMMARY:"Klönschnack" WRK 60plus Damen 
DESCRIPTION:<p>WRK60plus jeden 2. Mittwoch im Monat ab 18.00 Uhr</p>
DTSTAMP:20260425T125249
DTSTART;TZID=Europe/Berlin:20271208T180000
SEQUENCE:0
TRANSP:OPAQUE
END:VEVENT
END:VCALENDAR